{"text_format":"1","workbook":"xlsx","n_sheets":2,"sheets":["Sheet1","計算シート"],"not_rendered":{"charts":0,"images":1,"macros":1,"external_links":0,"defined_names":1,"comments":0,"pivot_tables":0},"unopened":[],"bounds":{"document_bytes":16777216,"sheet_cells":100000,"rows_first":2000,"rows_last":500,"rows_between":2000,"halvings":0,"cell_chars":16384,"cell_head_chars":4096},"cells_cut":0,"cells_raw":0,"read":"whole","date_system":"1900"}

{"sheet":"Sheet1","index":0,"n_rows":113,"n_cols":7,"rows_kept":113,"cut":false,"hidden":false,"merged":[[0,1,0,6]]}
[null,"4月15日　社会見学 午前中の予定"]
[]
["①","午前",8,"時",15,"分","学校に登校します"]
[]
["②","午前",8,"時",30,"分","教室で朝の会"]
[]
["③","午前",8,"時",45,"分","昇降口に移動\nトイレに行きます。"]
[]
["④","午前",9,"時",0,"分","バスに乗ります。出発"]
[]
["⑤","午前",9,"時",40,"分","AAAスタジアム　見学"]
[]
["⑥","午後",12,"時",30,"分","お弁当　桜公園で"]
[]
[]
[]
[]
[]
[null,null,null,"①"]
[null,null,null,null,null,null,"分針"]
[null,null,null,{"$f":"D32-計算シート!J2","v":479},null,null,"時計の針先ｘ座標"]
[null,null,null,{"$f":"D33+計算シート!K2","v":91},null,null,"時計の針先y座標"]
[null,null,null,{"$f":"D32","v":448},null,null,"時計の中心ｘ座標"]
[null,null,null,{"$f":"D33","v":91},null,null,"時計の中心ｙ座標"]
[]
[null,null,null,null,null,null,"時針"]
[null,null,null,{"$f":"D32-計算シート!J3","v":426.75077075224038},null,null,"時計の針先ｘ座標"]
[null,null,null,{"$f":"D33+計算シート!K3","v":99.801718944397066},null,null,"時計の針先y座標"]
[null,null,null,{"$f":"D32","v":448},null,null,"時計の中心ｘ座標"]
[null,null,null,{"$f":"D33","v":91},null,null,"時計の中心ｙ座標"]
[]
[null,null,null,448,null,null,"時計の中心座標ｘ"]
[null,null,null,91,null,null,"時計の中心座標ｙ"]
[]
[null,null,null,"②"]
[null,null,null,null,null,null,"分針"]
[null,null,null,{"$f":"D48-計算シート!J4","v":448},null,null,"時計の針先ｘ座標"]
[null,null,null,{"$f":"D49+計算シート!K4","v":237},null,null,"時計の針先y座標"]
[null,null,null,{"$f":"D48","v":448},null,null,"時計の中心ｘ座標"]
[null,null,null,{"$f":"D49","v":206},null,null,"時計の中心ｙ座標"]
[]
[null,null,null,null,null,null,"時針"]
[null,null,null,{"$f":"D48-計算シート!J5","v":425.78370599535145},null,null,"時計の針先ｘ座標"]
[null,null,null,{"$f":"D49+計算シート!K5","v":211.95283803735796},null,null,"時計の針先y座標"]
[null,null,null,{"$f":"D48","v":448},null,null,"時計の中心ｘ座標"]
[null,null,null,{"$f":"D49","v":206},null,null,"時計の中心ｙ座標"]
[]
[null,null,null,448,null,null,"時計の中心座標ｘ"]
[null,null,null,206,null,null,"時計の中心座標ｙ"]
[]
[null,null,null,"③"]
[null,null,null,null,null,null,"分針"]
[null,null,null,{"$f":"D64-計算シート!J6","v":417},null,null,"時計の針先ｘ座標"]
[null,null,null,{"$f":"D65+計算シート!K6","v":323},null,null,"時計の針先y座標"]
[null,null,null,{"$f":"D64","v":448},null,null,"時計の中心ｘ座標"]
[null,null,null,{"$f":"D65","v":323},null,null,"時計の中心ｙ座標"]
[]
[null,null,null,null,null,null,"時針"]
[null,null,null,{"$f":"D64-計算シート!J7","v":425.19676818840236},null,null,"時計の針先ｘ座標"]
[null,null,null,{"$f":"D65+計算シート!K7","v":326.00210242106118},null,null,"時計の針先y座標"]
[null,null,null,{"$f":"D64","v":448},null,null,"時計の中心ｘ座標"]
[null,null,null,{"$f":"D65","v":323},null,null,"時計の中心ｙ座標"]
[]
[null,null,null,448,null,null,"時計の中心座標ｘ"]
[null,null,null,323,null,null,"時計の中心座標ｙ"]
[]
[null,null,null,"④"]
[null,null,null,null,null,null,"分針"]
[null,null,null,{"$f":"D80-計算シート!J8","v":448},null,null,"時計の針先ｘ座標"]
[null,null,null,{"$f":"D81+計算シート!K8","v":409},null,null,"時計の針先y座標"]
[null,null,null,{"$f":"D80","v":448},null,null,"時計の中心ｘ座標"]
[null,null,null,{"$f":"D81","v":440},null,null,"時計の中心ｙ座標"]
[]
[null,null,null,null,null,null,"時針"]
[null,null,null,{"$f":"D80-計算シート!J9","v":425},null,null,"時計の針先ｘ座標"]
[null,null,null,{"$f":"D81+計算シート!K9","v":440},null,null,"時計の針先y座標"]
[null,null,null,{"$f":"D80","v":448},null,null,"時計の中心ｘ座標"]
[null,null,null,{"$f":"D81","v":440},null,null,"時計の中心ｙ座標"]
[]
[null,null,null,448,null,null,"時計の中心座標ｘ"]
[null,null,null,440,null,null,"時計の中心座標ｙ"]
[]
[null,null,null,"⑤"]
[null,null,null,null,null,null,"分針"]
[null,null,null,{"$f":"D96-計算シート!J10","v":421.15321248268242},null,null,"時計の針先ｘ座標"]
[null,null,null,{"$f":"D97+計算シート!K10","v":571.5},null,null,"時計の針先y座標"]
[null,null,null,{"$f":"D96","v":448},null,null,"時計の中心ｘ座標"]
[null,null,null,{"$f":"D97","v":556},null,null,"時計の中心ｙ座標"]
[]
[null,null,null,null,null,null,"時針"]
[null,null,null,{"$f":"D96-計算シート!J11","v":426.38706972192409},null,null,"時計の針先ｘ座標"]
[null,null,null,{"$f":"D97+計算シート!K11","v":548.13353670350966},null,null,"時計の針先y座標"]
[null,null,null,{"$f":"D96","v":448},null,null,"時計の中心ｘ座標"]
[null,null,null,{"$f":"D97","v":556},null,null,"時計の中心ｙ座標"]
[]
[null,null,null,448,null,null,"時計の中心座標ｘ"]
[null,null,null,556,null,null,"時計の中心座標ｙ"]
[]
[null,null,null,"⑥"]
[null,null,null,null,null,null,"分針"]
[null,null,null,{"$f":"D112-計算シート!J12","v":448},null,null,"時計の針先ｘ座標"]
[null,null,null,{"$f":"D113+計算シート!K12","v":704},null,null,"時計の針先y座標"]
[null,null,null,{"$f":"D112","v":448},null,null,"時計の中心ｘ座標"]
[null,null,null,{"$f":"D113","v":673},null,null,"時計の中心ｙ座標"]
[]
[null,null,null,null,null,null,"時針"]
[null,null,null,{"$f":"D112-計算シート!J13","v":453.95283803735799},null,null,"時計の針先ｘ座標"]
[null,null,null,{"$f":"D113+計算シート!K13","v":650.7837059953514},null,null,"時計の針先y座標"]
[null,null,null,{"$f":"D112","v":448},null,null,"時計の中心ｘ座標"]
[null,null,null,{"$f":"D113","v":673},null,null,"時計の中心ｙ座標"]
[]
[null,null,null,448,null,null,"時計の中心座標ｘ"]
[null,null,null,673,null,null,"時計の中心座標ｙ"]

{"sheet":"計算シート","index":1,"n_rows":13,"n_cols":11,"rows_kept":13,"cut":false,"hidden":false,"merged":[]}
[null,null,"針の長さ","値","時針は分でも動く","角度に変換","ラジアンに変換","X方向","Y方向","X座標","Y座標"]
["①","分針",31,{"$f":"Sheet1!E3","v":15},null,{"$f":"(D2*-1+45)*6","v":180},{"$f":"F2*PI()/180","v":3.1415926535897931},{"$f":"COS(G2)","v":-1},{"$f":"SIN(G2)","v":1.22514845490862E-16},{"$f":"H2*C2","v":-31},{"$f":"I2*C2","v":3.797960210216722E-15}]
[null,"時針",23,{"$f":"Sheet1!C3","v":8},{"$f":"D3+D2/60","v":8.25},{"$f":"(E3*-1+9)*30","v":22.5},0.39269908169872414,0.92387953251128674,0.38268343236508978,21.249229247759594,8.8017189443970647]
["②","分針",31,{"$f":"Sheet1!E5","v":30},null,{"$f":"(D4*-1+45)*6","v":90},1.5707963267948966,6.1257422745431001E-17,1,1.898980105108361E-15,31]
[null,"時針",23,{"$f":"Sheet1!C5","v":8},{"$f":"D5+D4/60","v":8.5},{"$f":"(E5*-1+9)*30","v":15},0.26179938779914941,0.96592582628906831,0.25881904510252074,22.216294004648571,5.952838037357977]
["③","分針",31,{"$f":"Sheet1!E7","v":45},null,{"$f":"(D6*-1+45)*6","v":0},0,1,0,31,0]
[null,"時針",23,{"$f":"Sheet1!C7","v":8},{"$f":"D7+D6/60","v":8.75},{"$f":"(E7*-1+9)*30","v":7.5},0.1308996938995747,0.99144486137381038,0.13052619222005157,22.803231811597637,3.0021024210611862]
["④","分針",31,{"$f":"Sheet1!E9","v":0},null,{"$f":"(D8*-1+45)*6","v":270},4.7123889803846897,-1.83772268236293E-16,-1,-5.696940315325083E-15,-31]
[null,"時針",23,{"$f":"Sheet1!C9","v":9},{"$f":"D9+D8/60","v":9},{"$f":"(E9*-1+9)*30","v":0},0,1,0,23,0]
["⑤","分針",31,{"$f":"Sheet1!E11","v":40},null,{"$f":"(D10*-1+45)*6","v":30},0.52359877559829882,0.86602540378443871,0.49999999999999994,26.846787517317601,15.499999999999998]
[null,"時針",23,{"$f":"Sheet1!C11","v":9},{"$f":"D11+D10/60","v":9.6666666666666661},{"$f":"(E11*-1+9)*30","v":-19.999999999999982},-0.34906585039886556,0.93969262078590854,-0.34202014332566838,21.612930278075897,-7.8664632964903731]
["⑥","分針",31,{"$f":"Sheet1!E13","v":30},null,{"$f":"(D12*-1+45)*6","v":90},1.5707963267948966,6.1257422745431001E-17,1,1.898980105108361E-15,31]
[null,"時針",23,{"$f":"Sheet1!C13","v":12},{"$f":"D13+D12/60","v":12.5},{"$f":"(E13*-1+9)*30","v":-105},-1.8325957145940461,-0.25881904510252085,-0.96592582628906831,-5.9528380373579797,-22.216294004648571]